BEGIN:VCALENDAR
VERSION:2.0
PRODID:icalendar-ruby
CALSCALE:GREGORIAN
METHOD:PUBLISH
BEGIN:VEVENT
DTSTAMP:20260422T174429Z
UID:22-410121@gracereformed.tithelysetup5.com
DTSTART:20261018T153000Z
DTEND:20261018T170000Z
CLASS:PUBLIC
CREATED:20260422T095411
DESCRIPTION:Join us as we gather to worship our sovereign God through expos
 itory preaching\, congregational singing\, and heartfelt prayer. Our servi
 ce centers on the faithful proclamation of God's Word\, celebrating the do
 ctrines of grace that remind us of Christ's finished work and our complete
  dependence on His mercy.\nCome expectant to hear from Scripture as we gro
 w together in biblical understanding and Christ-centered community. All ar
 e welcome to join us in glorifying God and enjoying Him in corporate worsh
 ip.\nService begins at 10:30am. 
LAST-MODIFIED:20260422T095411
LOCATION:
SUMMARY:Lord's Day Worship
URL;VALUE=URI:https://grb.church/events/lords-day-worship/2026-10-18
ATTACH;FILENAME=sermonlogo-for-non-series-db-background.png;FMTTYPE=image/p
 ng:https://dq5pwpg1q8ru0.cloudfront.net/2025/10/27/20/32/08/fbf02d0c-3cf0-
 4847-97f5-3a0e5a1454a2/sermonlogo-for-non-series-db-background.png
END:VEVENT
END:VCALENDAR
